BEGIN:VCALENDAR
VERSION:2.0
PRODID:icalendar-ruby
CALSCALE:GREGORIAN
METHOD:PUBLISH
BEGIN:VEVENT
DTSTAMP:20260421T044745Z
UID:6-458238@fcog1.com
DTSTART:20260816T153000Z
DTEND:20260816T170000Z
CLASS:PUBLIC
CREATED:20260420T201514
DESCRIPTION:https://www.youtube.com/@firstchurchofgodjolietil/live
LAST-MODIFIED:20260420T201514
LOCATION:
SUMMARY:Worship Service
URL;VALUE=URI:https://www.fcog1.com/events/worship-service--6/2026-08-16
ATTACH;FILENAME=i477.jpg;FMTTYPE=image/jpeg:https://dq5pwpg1q8ru0.cloudfron
 t.net/2025/05/22/21/57/28/16ae5ec5-e958-49cd-b425-b2c5ae4349b4/i477.jpg
END:VEVENT
END:VCALENDAR
